BEGIN:VCALENDAR
VERSION:2.0
PRODID:-//Albaxen - ECPv6.8.0//NONSGML v1.0//EN
CALSCALE:GREGORIAN
METHOD:PUBLISH
X-ORIGINAL-URL:https://www.albaxen.de
X-WR-CALDESC:Veranstaltungen für Albaxen
REFRESH-INTERVAL;VALUE=DURATION:PT1H
X-Robots-Tag:noindex
X-PUBLISHED-TTL:PT1H
BEGIN:VTIMEZONE
TZID:Europe/Berlin
BEGIN:DAYLIGHT
TZOFFSETFROM:+0100
TZOFFSETTO:+0200
TZNAME:CEST
DTSTART:20230326T010000
END:DAYLIGHT
BEGIN:STANDARD
TZOFFSETFROM:+0200
TZOFFSETTO:+0100
TZNAME:CET
DTSTART:20231029T010000
END:STANDARD
END:VTIMEZONE
BEGIN:VEVENT
DTSTART;TZID=Europe/Berlin:20230104T150000
DTEND;TZID=Europe/Berlin:20230104T180000
DTSTAMP:20260423T103002
CREATED:20221027T192249Z
LAST-MODIFIED:20221027T192249Z
UID:4871-1672844400-1672855200@www.albaxen.de
SUMMARY:Männertreff
DESCRIPTION:
URL:https://www.albaxen.de/event/maennertreff-4/
END:VEVENT
BEGIN:VEVENT
DTSTART;TZID=Europe/Berlin:20230105T200000
DTEND;TZID=Europe/Berlin:20230105T220000
DTSTAMP:20260423T103002
CREATED:20221027T192520Z
LAST-MODIFIED:20221027T192520Z
UID:4874-1672948800-1672956000@www.albaxen.de
SUMMARY:Skatabend im Schützenhaus
DESCRIPTION:
URL:https://www.albaxen.de/event/skatabend-im-schuetzenhaus-13/
END:VEVENT
BEGIN:VEVENT
DTSTART;TZID=Europe/Berlin:20230107T200000
DTEND;TZID=Europe/Berlin:20230107T220000
DTSTAMP:20260423T103002
CREATED:20221027T192617Z
LAST-MODIFIED:20221027T192617Z
UID:4876-1673121600-1673128800@www.albaxen.de
SUMMARY:JHV Blasorchester
DESCRIPTION:
URL:https://www.albaxen.de/event/jhv-blasorchester/
END:VEVENT
BEGIN:VEVENT
DTSTART;VALUE=DATE:20230108
DTEND;VALUE=DATE:20230109
DTSTAMP:20260423T103002
CREATED:20221027T192704Z
LAST-MODIFIED:20221027T192704Z
UID:4878-1673136000-1673222399@www.albaxen.de
SUMMARY:Sternsingeraktion
DESCRIPTION:
URL:https://www.albaxen.de/event/sternsingeraktion-4/
END:VEVENT
BEGIN:VEVENT
DTSTART;TZID=Europe/Berlin:20230110T080000
DTEND;TZID=Europe/Berlin:20230110T170000
DTSTAMP:20260423T103002
CREATED:20221029T154559Z
LAST-MODIFIED:20221115T211720Z
UID:5045-1673337600-1673370000@www.albaxen.de
SUMMARY:Projektgruppe "Stricken" | Dienstags 19:15 Uhr im Pfarrheim
DESCRIPTION:
URL:https://www.albaxen.de/event/projektgruppe-stricken-dienstags-1915-uhr-im-schuetzenhaus-6/
END:VEVENT
BEGIN:VEVENT
DTSTART;TZID=Europe/Berlin:20230111T150000
DTEND;TZID=Europe/Berlin:20230111T180000
DTSTAMP:20260423T103002
CREATED:20221027T192812Z
LAST-MODIFIED:20221027T192812Z
UID:4880-1673449200-1673460000@www.albaxen.de
SUMMARY:Treff ab 60
DESCRIPTION:
URL:https://www.albaxen.de/event/treff-ab-60-9/
END:VEVENT
BEGIN:VEVENT
DTSTART;TZID=Europe/Berlin:20230114T200000
DTEND;TZID=Europe/Berlin:20230114T220000
DTSTAMP:20260423T103002
CREATED:20221027T192859Z
LAST-MODIFIED:20221027T192859Z
UID:4882-1673726400-1673733600@www.albaxen.de
SUMMARY:JHV Bürgerverein
DESCRIPTION:
URL:https://www.albaxen.de/event/jhv-buergerverein/
END:VEVENT
BEGIN:VEVENT
DTSTART;VALUE=DATE:20230120
DTEND;VALUE=DATE:20230121
DTSTAMP:20260423T103002
CREATED:20221027T192945Z
LAST-MODIFIED:20221027T192945Z
UID:4884-1674172800-1674259199@www.albaxen.de
SUMMARY:Altpapiersammlung am Pfarrheim
DESCRIPTION:
URL:https://www.albaxen.de/event/altpapiersammlung-am-pfarrheim/
END:VEVENT
BEGIN:VEVENT
DTSTART;VALUE=DATE:20230121
DTEND;VALUE=DATE:20230122
DTSTAMP:20260423T103002
CREATED:20221027T193030Z
LAST-MODIFIED:20221027T193030Z
UID:4886-1674259200-1674345599@www.albaxen.de
SUMMARY:Altpapiersammlung am Pfarrheim
DESCRIPTION:
URL:https://www.albaxen.de/event/altpapiersammlung-am-pfarrheim-2/
END:VEVENT
BEGIN:VEVENT
DTSTART;TZID=Europe/Berlin:20230122T143000
DTEND;TZID=Europe/Berlin:20230122T170000
DTSTAMP:20260423T103002
CREATED:20221027T193125Z
LAST-MODIFIED:20221027T194255Z
UID:4888-1674397800-1674406800@www.albaxen.de
SUMMARY:Cafe am Sonntag im Pfarrheim
DESCRIPTION:
URL:https://www.albaxen.de/event/kaffee-am-sonntag-im-pfarrheim/
END:VEVENT
BEGIN:VEVENT
DTSTART;TZID=Europe/Berlin:20230124T080000
DTEND;TZID=Europe/Berlin:20230124T170000
DTSTAMP:20260423T103002
CREATED:20221029T154645Z
LAST-MODIFIED:20221115T211608Z
UID:5049-1674547200-1674579600@www.albaxen.de
SUMMARY:Projektgruppe "Stricken" | Dienstags 19:15 Uhr im Pfarrheim
DESCRIPTION:
URL:https://www.albaxen.de/event/projektgruppe-stricken-dienstags-1915-uhr-im-schuetzenhaus-8/
END:VEVENT
BEGIN:VEVENT
DTSTART;VALUE=DATE:20230128
DTEND;VALUE=DATE:20230129
DTSTAMP:20260423T103002
CREATED:20221027T193232Z
LAST-MODIFIED:20221027T193232Z
UID:4890-1674864000-1674950399@www.albaxen.de
SUMMARY:Tannenbaumabholaktion Maibaumfreunde
DESCRIPTION:
URL:https://www.albaxen.de/event/tannenbaumabholaktion-maibaumfreunde-2/
END:VEVENT
BEGIN:VEVENT
DTSTART;TZID=Europe/Berlin:20230128T200000
DTEND;TZID=Europe/Berlin:20230128T220000
DTSTAMP:20260423T103002
CREATED:20221027T193316Z
LAST-MODIFIED:20221027T193316Z
UID:4892-1674936000-1674943200@www.albaxen.de
SUMMARY:JHV Tambourcorps
DESCRIPTION:
URL:https://www.albaxen.de/event/jhv-tambourcorps/
END:VEVENT
END:VCALENDAR