BEGIN:VCALENDAR
VERSION:2.0
PRODID:-//Albaxen - ECPv6.8.0//NONSGML v1.0//EN
CALSCALE:GREGORIAN
METHOD:PUBLISH
X-ORIGINAL-URL:https://www.albaxen.de
X-WR-CALDESC:Veranstaltungen für Albaxen
REFRESH-INTERVAL;VALUE=DURATION:PT1H
X-Robots-Tag:noindex
X-PUBLISHED-TTL:PT1H
BEGIN:VTIMEZONE
TZID:Europe/Berlin
BEGIN:DAYLIGHT
TZOFFSETFROM:+0100
TZOFFSETTO:+0200
TZNAME:CEST
DTSTART:20220327T010000
END:DAYLIGHT
BEGIN:STANDARD
TZOFFSETFROM:+0200
TZOFFSETTO:+0100
TZNAME:CET
DTSTART:20221030T010000
END:STANDARD
END:VTIMEZONE
BEGIN:VEVENT
DTSTART;VALUE=DATE:20221102
DTEND;VALUE=DATE:20221103
DTSTAMP:20260423T130318
CREATED:20220202T103141Z
LAST-MODIFIED:20220202T103141Z
UID:4309-1667347200-1667433599@www.albaxen.de
SUMMARY:Männertreff
DESCRIPTION:
URL:https://www.albaxen.de/event/maennertreff-15/
END:VEVENT
BEGIN:VEVENT
DTSTART;VALUE=DATE:20221105
DTEND;VALUE=DATE:20221106
DTSTAMP:20260423T130318
CREATED:20220202T103228Z
LAST-MODIFIED:20220202T103228Z
UID:4311-1667606400-1667692799@www.albaxen.de
SUMMARY:Preisskat Schützenverein
DESCRIPTION:
URL:https://www.albaxen.de/event/preisskat-schuetzenverein/
END:VEVENT
BEGIN:VEVENT
DTSTART;TZID=Europe/Berlin:20221108T191500
DTEND;TZID=Europe/Berlin:20221108T191500
DTSTAMP:20260423T130318
CREATED:20221007T090213Z
LAST-MODIFIED:20221007T091105Z
UID:4772-1667934900-1667934900@www.albaxen.de
SUMMARY:Projektgruppe "Stricken" | Dienstags 19:15 Uhr im Schützenhaus
DESCRIPTION:
URL:https://www.albaxen.de/event/projektrguppe-stricken-dienstags-1915-uhr-im-schuetzenhaus-4/
END:VEVENT
BEGIN:VEVENT
DTSTART;TZID=Europe/Berlin:20221115T191500
DTEND;TZID=Europe/Berlin:20221115T191500
DTSTAMP:20260423T130318
CREATED:20221007T090310Z
LAST-MODIFIED:20221115T203951Z
UID:4774-1668539700-1668539700@www.albaxen.de
SUMMARY:Projektgruppe "Stricken" | Dienstags 19:15 Uhr im Pfarrheim
DESCRIPTION:
URL:https://www.albaxen.de/event/projektrguppe-stricken-dienstags-1915-uhr-im-schuetzenhaus-5/
END:VEVENT
BEGIN:VEVENT
DTSTART;VALUE=DATE:20221117
DTEND;VALUE=DATE:20221118
DTSTAMP:20260423T130318
CREATED:20220202T103301Z
LAST-MODIFIED:20220202T103301Z
UID:4313-1668643200-1668729599@www.albaxen.de
SUMMARY:Skatabend im Schützenhaus
DESCRIPTION:
URL:https://www.albaxen.de/event/skatabend-im-schuetzenhaus-15/
END:VEVENT
BEGIN:VEVENT
DTSTART;VALUE=DATE:20221123
DTEND;VALUE=DATE:20221124
DTSTAMP:20260423T130318
CREATED:20220202T103334Z
LAST-MODIFIED:20220202T103334Z
UID:4315-1669161600-1669247999@www.albaxen.de
SUMMARY:Treff ab 60 | Gemütlicher Nachmittag im Pfarrheim
DESCRIPTION:
URL:https://www.albaxen.de/event/treff-ab-60-gemuetlicher-nachmittag-im-pfarrheim/
END:VEVENT
BEGIN:VEVENT
DTSTART;VALUE=DATE:20221126
DTEND;VALUE=DATE:20221127
DTSTAMP:20260423T130318
CREATED:20220202T103703Z
LAST-MODIFIED:20220202T103703Z
UID:4317-1669420800-1669507199@www.albaxen.de
SUMMARY:Preisskat Bürgerverein
DESCRIPTION:
URL:https://www.albaxen.de/event/preisskat-buergerverein-4/
END:VEVENT
BEGIN:VEVENT
DTSTART;TZID=Europe/Berlin:20221127T143000
DTEND;TZID=Europe/Berlin:20221127T170000
DTSTAMP:20260423T130318
CREATED:20221123T101320Z
LAST-MODIFIED:20221123T101320Z
UID:5218-1669559400-1669568400@www.albaxen.de
SUMMARY:Cafe am Sonntag\, 27. 11. von 14.30 - 17.00 Uhr
DESCRIPTION:
URL:https://www.albaxen.de/event/cafe-am-sonntag-27-11-von-14-30-17-00-uhr/
END:VEVENT
BEGIN:VEVENT
DTSTART;TZID=Europe/Berlin:20221127T173000
DTEND;TZID=Europe/Berlin:20221127T180000
DTSTAMP:20260423T130318
CREATED:20221123T101121Z
LAST-MODIFIED:20221123T101121Z
UID:5216-1669570200-1669572000@www.albaxen.de
SUMMARY:Adventsandacht am Sonntag\, 27. 11. ab 17.30 Uhr
DESCRIPTION:
URL:https://www.albaxen.de/event/adventsandacht-am-sonntag-27-11-ab-17-30-uhr/
END:VEVENT
BEGIN:VEVENT
DTSTART;TZID=Europe/Berlin:20221129T191500
DTEND;TZID=Europe/Berlin:20221129T191500
DTSTAMP:20260423T130318
CREATED:20221007T090450Z
LAST-MODIFIED:20221115T204103Z
UID:4778-1669749300-1669749300@www.albaxen.de
SUMMARY:Projektgruppe "Stricken" | Dienstags 19:15 Uhr im Pfarrheim
DESCRIPTION:
URL:https://www.albaxen.de/event/projektrguppe-stricken-dienstags-1915-uhr-im-schuetzenhaus-7/
END:VEVENT
END:VCALENDAR