BEGIN:VCALENDAR
VERSION:2.0
PRODID:-//Albaxen - ECPv6.8.0//NONSGML v1.0//EN
CALSCALE:GREGORIAN
METHOD:PUBLISH
X-WR-CALNAME:Albaxen
X-ORIGINAL-URL:https://www.albaxen.de
X-WR-CALDESC:Veranstaltungen für Albaxen
REFRESH-INTERVAL;VALUE=DURATION:PT1H
X-Robots-Tag:noindex
X-PUBLISHED-TTL:PT1H
BEGIN:VTIMEZONE
TZID:Europe/Berlin
BEGIN:DAYLIGHT
TZOFFSETFROM:+0100
TZOFFSETTO:+0200
TZNAME:CEST
DTSTART:20220327T010000
END:DAYLIGHT
BEGIN:STANDARD
TZOFFSETFROM:+0200
TZOFFSETTO:+0100
TZNAME:CET
DTSTART:20221030T010000
END:STANDARD
END:VTIMEZONE
BEGIN:VEVENT
DTSTART;VALUE=DATE:20220730
DTEND;VALUE=DATE:20220803
DTSTAMP:20260425T124941
CREATED:20220202T101039Z
LAST-MODIFIED:20220202T101039Z
UID:4280-1659139200-1659484799@www.albaxen.de
SUMMARY:Schützenfest
DESCRIPTION:
URL:https://www.albaxen.de/event/schuetzenfest/
END:VEVENT
BEGIN:VEVENT
DTSTART;VALUE=DATE:20220803
DTEND;VALUE=DATE:20220804
DTSTAMP:20260425T124941
CREATED:20220202T101305Z
LAST-MODIFIED:20220202T101305Z
UID:4282-1659484800-1659571199@www.albaxen.de
SUMMARY:Männertreff
DESCRIPTION:
URL:https://www.albaxen.de/event/maennertreff-13/
END:VEVENT
BEGIN:VEVENT
DTSTART;VALUE=DATE:20220820
DTEND;VALUE=DATE:20220821
DTSTAMP:20260425T124941
CREATED:20220202T101845Z
LAST-MODIFIED:20220202T101845Z
UID:4284-1660953600-1661039999@www.albaxen.de
SUMMARY:4. Albaxer Beachvolleyballtunier | Firma Th. Geyer
DESCRIPTION:
URL:https://www.albaxen.de/event/4-albaxer-beachvolleyballtunier-firma-th-geyer/
END:VEVENT
BEGIN:VEVENT
DTSTART;VALUE=DATE:20220825
DTEND;VALUE=DATE:20220826
DTSTAMP:20260425T124941
CREATED:20220202T101910Z
LAST-MODIFIED:20220202T101910Z
UID:4287-1661385600-1661471999@www.albaxen.de
SUMMARY:Skatabend im Schützenhaus
DESCRIPTION:
URL:https://www.albaxen.de/event/skatabend-im-schuetzenhaus-12/
END:VEVENT
BEGIN:VEVENT
DTSTART;TZID=Europe/Berlin:20220828T143000
DTEND;TZID=Europe/Berlin:20220828T170000
DTSTAMP:20260425T124941
CREATED:20220815T184135Z
LAST-MODIFIED:20220815T184135Z
UID:4671-1661697000-1661706000@www.albaxen.de
SUMMARY:Café am Sonntag im Pfarrheim
DESCRIPTION:
URL:https://www.albaxen.de/event/cafe-am-sonntag-im-pfarrheim/
LOCATION:Pfarrheim\, Dionysiusstraße 6\, Albaxen\, 37671
END:VEVENT
END:VCALENDAR