BEGIN:VCALENDAR
VERSION:2.0
PRODID:-//Albaxen - ECPv6.8.0//NONSGML v1.0//EN
CALSCALE:GREGORIAN
METHOD:PUBLISH
X-ORIGINAL-URL:https://www.albaxen.de
X-WR-CALDESC:Veranstaltungen für Albaxen
REFRESH-INTERVAL;VALUE=DURATION:PT1H
X-Robots-Tag:noindex
X-PUBLISHED-TTL:PT1H
BEGIN:VTIMEZONE
TZID:Europe/Berlin
BEGIN:DAYLIGHT
TZOFFSETFROM:+0100
TZOFFSETTO:+0200
TZNAME:CEST
DTSTART:20230326T010000
END:DAYLIGHT
BEGIN:STANDARD
TZOFFSETFROM:+0200
TZOFFSETTO:+0100
TZNAME:CET
DTSTART:20231029T010000
END:STANDARD
END:VTIMEZONE
BEGIN:VEVENT
DTSTART;TZID=Europe/Berlin:20230306T193000
DTEND;TZID=Europe/Berlin:20230306T210000
DTSTAMP:20260423T101222
CREATED:20221027T194641Z
LAST-MODIFIED:20221027T194641Z
UID:4917-1678131000-1678136400@www.albaxen.de
SUMMARY:Kuratoriumssitzung
DESCRIPTION:
URL:https://www.albaxen.de/event/kuratoriumssitzung-6/
LOCATION:Schützenhaus\, Wehrstraße\, Albaxen
END:VEVENT
END:VCALENDAR