BEGIN:VCALENDAR
VERSION:2.0
PRODID:-//Albaxen - ECPv6.8.0//NONSGML v1.0//EN
CALSCALE:GREGORIAN
METHOD:PUBLISH
X-ORIGINAL-URL:https://www.albaxen.de
X-WR-CALDESC:Veranstaltungen für Albaxen
REFRESH-INTERVAL;VALUE=DURATION:PT1H
X-Robots-Tag:noindex
X-PUBLISHED-TTL:PT1H
BEGIN:VTIMEZONE
TZID:Europe/Berlin
BEGIN:DAYLIGHT
TZOFFSETFROM:+0100
TZOFFSETTO:+0200
TZNAME:CEST
DTSTART:20230326T010000
END:DAYLIGHT
BEGIN:STANDARD
TZOFFSETFROM:+0200
TZOFFSETTO:+0100
TZNAME:CET
DTSTART:20231029T010000
END:STANDARD
END:VTIMEZONE
BEGIN:VEVENT
DTSTART;VALUE=DATE:20230128
DTEND;VALUE=DATE:20230129
DTSTAMP:20260419T162905
CREATED:20221027T193232Z
LAST-MODIFIED:20221027T193232Z
UID:4890-1674864000-1674950399@www.albaxen.de
SUMMARY:Tannenbaumabholaktion Maibaumfreunde
DESCRIPTION:
URL:https://www.albaxen.de/event/tannenbaumabholaktion-maibaumfreunde-2/
END:VEVENT
BEGIN:VEVENT
DTSTART;TZID=Europe/Berlin:20230128T200000
DTEND;TZID=Europe/Berlin:20230128T220000
DTSTAMP:20260419T162905
CREATED:20221027T193316Z
LAST-MODIFIED:20221027T193316Z
UID:4892-1674936000-1674943200@www.albaxen.de
SUMMARY:JHV Tambourcorps
DESCRIPTION:
URL:https://www.albaxen.de/event/jhv-tambourcorps/
END:VEVENT
END:VCALENDAR