BEGIN:VCALENDAR
VERSION:2.0
PRODID:-//Albaxen - ECPv6.8.0//NONSGML v1.0//EN
CALSCALE:GREGORIAN
METHOD:PUBLISH
X-ORIGINAL-URL:https://www.albaxen.de
X-WR-CALDESC:Veranstaltungen für Albaxen
REFRESH-INTERVAL;VALUE=DURATION:PT1H
X-Robots-Tag:noindex
X-PUBLISHED-TTL:PT1H
BEGIN:VTIMEZONE
TZID:Europe/Berlin
BEGIN:DAYLIGHT
TZOFFSETFROM:+0100
TZOFFSETTO:+0200
TZNAME:CEST
DTSTART:20230326T010000
END:DAYLIGHT
BEGIN:STANDARD
TZOFFSETFROM:+0200
TZOFFSETTO:+0100
TZNAME:CET
DTSTART:20231029T010000
END:STANDARD
END:VTIMEZONE
BEGIN:VEVENT
DTSTART;TZID=Europe/Berlin:20230110T080000
DTEND;TZID=Europe/Berlin:20230110T170000
DTSTAMP:20260423T113549
CREATED:20221029T154559Z
LAST-MODIFIED:20221115T211720Z
UID:5045-1673337600-1673370000@www.albaxen.de
SUMMARY:Projektgruppe "Stricken" | Dienstags 19:15 Uhr im Pfarrheim
DESCRIPTION:
URL:https://www.albaxen.de/event/projektgruppe-stricken-dienstags-1915-uhr-im-schuetzenhaus-6/
END:VEVENT
END:VCALENDAR