BEGIN:VCALENDAR
VERSION:2.0
PRODID:-//Albaxen - ECPv6.8.0//NONSGML v1.0//EN
CALSCALE:GREGORIAN
METHOD:PUBLISH
X-ORIGINAL-URL:https://www.albaxen.de
X-WR-CALDESC:Veranstaltungen für Albaxen
REFRESH-INTERVAL;VALUE=DURATION:PT1H
X-Robots-Tag:noindex
X-PUBLISHED-TTL:PT1H
BEGIN:VTIMEZONE
TZID:Europe/Berlin
BEGIN:DAYLIGHT
TZOFFSETFROM:+0100
TZOFFSETTO:+0200
TZNAME:CEST
DTSTART:20220327T010000
END:DAYLIGHT
BEGIN:STANDARD
TZOFFSETFROM:+0200
TZOFFSETTO:+0100
TZNAME:CET
DTSTART:20221030T010000
END:STANDARD
END:VTIMEZONE
BEGIN:VEVENT
DTSTART;VALUE=DATE:20221203
DTEND;VALUE=DATE:20221204
DTSTAMP:20260423T130213
CREATED:20220202T104053Z
LAST-MODIFIED:20220202T104053Z
UID:4319-1670025600-1670111999@www.albaxen.de
SUMMARY:VDK Adventskaffee
DESCRIPTION:
URL:https://www.albaxen.de/event/vdk-adventskaffee/
END:VEVENT
BEGIN:VEVENT
DTSTART;VALUE=DATE:20221203
DTEND;VALUE=DATE:20221204
DTSTAMP:20260423T130213
CREATED:20220202T104127Z
LAST-MODIFIED:20220202T104143Z
UID:4321-1670025600-1670111999@www.albaxen.de
SUMMARY:Preisschiessen des Schützenvereins
DESCRIPTION:
URL:https://www.albaxen.de/event/preisscheissen-des-schuetzenvereins/
END:VEVENT
BEGIN:VEVENT
DTSTART;VALUE=DATE:20221203
DTEND;VALUE=DATE:20221204
DTSTAMP:20260423T130213
CREATED:20220202T104250Z
LAST-MODIFIED:20220202T104250Z
UID:4326-1670025600-1670111999@www.albaxen.de
SUMMARY:Jahreshauptversammlung der Feuerwehr
DESCRIPTION:
URL:https://www.albaxen.de/event/jahreshauptversammlung-der-feuerwehr-2/
END:VEVENT
END:VCALENDAR