BEGIN:VCALENDAR
VERSION:2.0
PRODID:-//Albaxen - ECPv6.8.0//NONSGML v1.0//EN
CALSCALE:GREGORIAN
METHOD:PUBLISH
X-WR-CALNAME:Albaxen
X-ORIGINAL-URL:https://www.albaxen.de
X-WR-CALDESC:Veranstaltungen für Albaxen
REFRESH-INTERVAL;VALUE=DURATION:PT1H
X-Robots-Tag:noindex
X-PUBLISHED-TTL:PT1H
BEGIN:VTIMEZONE
TZID:Europe/Berlin
BEGIN:DAYLIGHT
TZOFFSETFROM:+0100
TZOFFSETTO:+0200
TZNAME:CEST
DTSTART:20220327T010000
END:DAYLIGHT
BEGIN:STANDARD
TZOFFSETFROM:+0200
TZOFFSETTO:+0100
TZNAME:CET
DTSTART:20221030T010000
END:STANDARD
END:VTIMEZONE
BEGIN:VEVENT
DTSTART;TZID=Europe/Berlin:20221030T143000
DTEND;TZID=Europe/Berlin:20221030T170000
DTSTAMP:20260423T153745
CREATED:20220815T184442Z
LAST-MODIFIED:20221021T165005Z
UID:4675-1667140200-1667149200@www.albaxen.de
SUMMARY:Café am Sonntag im Pfarrheim
DESCRIPTION:
URL:https://www.albaxen.de/event/cafe-am-sonntag-im-pfarrheim-3/
LOCATION:Pfarrheim\, Dionysiusstraße 6\, Albaxen\, 37671
END:VEVENT
END:VCALENDAR