BEGIN:VCALENDAR
VERSION:2.0
PRODID:-//Albaxen - ECPv6.8.0//NONSGML v1.0//EN
CALSCALE:GREGORIAN
METHOD:PUBLISH
X-WR-CALNAME:Albaxen
X-ORIGINAL-URL:https://www.albaxen.de
X-WR-CALDESC:Veranstaltungen für Albaxen
REFRESH-INTERVAL;VALUE=DURATION:PT1H
X-Robots-Tag:noindex
X-PUBLISHED-TTL:PT1H
BEGIN:VTIMEZONE
TZID:Europe/Berlin
BEGIN:DAYLIGHT
TZOFFSETFROM:+0100
TZOFFSETTO:+0200
TZNAME:CEST
DTSTART:20220327T010000
END:DAYLIGHT
BEGIN:STANDARD
TZOFFSETFROM:+0200
TZOFFSETTO:+0100
TZNAME:CET
DTSTART:20221030T010000
END:STANDARD
END:VTIMEZONE
BEGIN:VEVENT
DTSTART;TZID=Europe/Berlin:20221024T193000
DTEND;TZID=Europe/Berlin:20221024T210000
DTSTAMP:20260423T152420
CREATED:20221018T153358Z
LAST-MODIFIED:20221018T153358Z
UID:4853-1666639800-1666645200@www.albaxen.de
SUMMARY:Kuratoriumssitzung am 24.10.22 um 19.30h im Gasthof von Heesen
DESCRIPTION:
URL:https://www.albaxen.de/event/kuratoriumssitzung-am-24-10-22-um-19-30h-im-gasthof-von-heesen/
LOCATION:Gasthaus Matta\, Hansastraße 29\, Albaxen\, NRW\, 37671
END:VEVENT
END:VCALENDAR